BEGIN:VCALENDAR
VERSION:2.0
PRODID:-//VINOTEEK - ECPv6.15.20//NONSGML v1.0//EN
CALSCALE:GREGORIAN
METHOD:PUBLISH
X-WR-CALNAME:VINOTEEK
X-ORIGINAL-URL:https://vinoteek.cityalko.ee
X-WR-CALDESC:Events for VINOTEEK
REFRESH-INTERVAL;VALUE=DURATION:PT1H
X-Robots-Tag:noindex
X-PUBLISHED-TTL:PT1H
BEGIN:VTIMEZONE
TZID:Europe/Tallinn
BEGIN:DAYLIGHT
TZOFFSETFROM:+0200
TZOFFSETTO:+0300
TZNAME:EEST
DTSTART:20250330T010000
END:DAYLIGHT
BEGIN:STANDARD
TZOFFSETFROM:+0300
TZOFFSETTO:+0200
TZNAME:EET
DTSTART:20251026T010000
END:STANDARD
BEGIN:DAYLIGHT
TZOFFSETFROM:+0200
TZOFFSETTO:+0300
TZNAME:EEST
DTSTART:20260329T010000
END:DAYLIGHT
BEGIN:STANDARD
TZOFFSETFROM:+0300
TZOFFSETTO:+0200
TZNAME:EET
DTSTART:20261025T010000
END:STANDARD
BEGIN:DAYLIGHT
TZOFFSETFROM:+0200
TZOFFSETTO:+0300
TZNAME:EEST
DTSTART:20270328T010000
END:DAYLIGHT
BEGIN:STANDARD
TZOFFSETFROM:+0300
TZOFFSETTO:+0200
TZNAME:EET
DTSTART:20271031T010000
END:STANDARD
END:VTIMEZONE
BEGIN:VEVENT
DTSTART;TZID=Europe/Tallinn:20260425T170000
DTEND;TZID=Europe/Tallinn:20260425T170000
DTSTAMP:20260421T111630
CREATED:20260414T085515Z
LAST-MODIFIED:20260414T085549Z
UID:1989-1777136400-1777136400@vinoteek.cityalko.ee
SUMMARY:Kreeka veinide õhtu – Alpha Estate veinimaja
DESCRIPTION:
URL:https://vinoteek.cityalko.ee/erapidu/kreeka-veinide-ohtu-alpha-estate-veinimaja/
END:VEVENT
END:VCALENDAR